BEGIN:VCALENDAR
VERSION:2.0
PRODID:-//eventon.com NONSGML v1.0//EN
CALSCALE:GREGORIAN
METHOD:PUBLISH
BEGIN:VEVENT
UID:69eaf3efd683a
DTSTAMP:20260424T043911Z
DTSTART:20240420
DTEND:20240421
LOCATION:
SUMMARY:Air Rally Flying
DESCRIPTION:Con el apoyo de la FederaciÃ³ AÃ¨ria Catalana Lâ€™Aeroclub orga
 niza la Lliga Catalana de Vuelo a Motor de 2023-24\,  una competiciÃ³n ofic
 ial y abierta a todos los y las pilotos y tripulantes federados y que estÃ¡
  formada por nueve pruebas puntuables de tipo Rally AÃ©reo. MÃ¡s informaciÃ
 ³n aquÃ­\nhttps://aeroclub.es/events/air-rally-flying-24_04_20/
URL:https://aeroclub.es/events/air-rally-flying-24_04_20/
END:VEVENT
END:VCALENDAR